BEGIN:VCALENDAR
VERSION:2.0
PRODID:-//Feuerwehr Raisdorf - ECPv6.15.20//NONSGML v1.0//EN
CALSCALE:GREGORIAN
METHOD:PUBLISH
X-WR-CALNAME:Feuerwehr Raisdorf
X-ORIGINAL-URL:https://www.feuerwehr-raisdorf.de
X-WR-CALDESC:Veranstaltungen für Feuerwehr Raisdorf
REFRESH-INTERVAL;VALUE=DURATION:PT1H
X-Robots-Tag:noindex
X-PUBLISHED-TTL:PT1H
BEGIN:VTIMEZONE
TZID:Europe/Berlin
BEGIN:DAYLIGHT
TZOFFSETFROM:+0100
TZOFFSETTO:+0200
TZNAME:CEST
DTSTART:20230326T010000
END:DAYLIGHT
BEGIN:STANDARD
TZOFFSETFROM:+0200
TZOFFSETTO:+0100
TZNAME:CET
DTSTART:20231029T010000
END:STANDARD
BEGIN:DAYLIGHT
TZOFFSETFROM:+0100
TZOFFSETTO:+0200
TZNAME:CEST
DTSTART:20240331T010000
END:DAYLIGHT
BEGIN:STANDARD
TZOFFSETFROM:+0200
TZOFFSETTO:+0100
TZNAME:CET
DTSTART:20241027T010000
END:STANDARD
BEGIN:DAYLIGHT
TZOFFSETFROM:+0100
TZOFFSETTO:+0200
TZNAME:CEST
DTSTART:20250330T010000
END:DAYLIGHT
BEGIN:STANDARD
TZOFFSETFROM:+0200
TZOFFSETTO:+0100
TZNAME:CET
DTSTART:20251026T010000
END:STANDARD
END:VTIMEZONE
BEGIN:VEVENT
DTSTART;TZID=Europe/Berlin:20240207T183000
DTEND;TZID=Europe/Berlin:20240207T210000
DTSTAMP:20260424T103943
CREATED:20231228T183723Z
LAST-MODIFIED:20231230T160924Z
UID:10000225-1707330600-1707339600@www.feuerwehr-raisdorf.de
SUMMARY:Drehleiter- & Maschinisten Ausbildung
DESCRIPTION:INHALT\nJedes unserer 7 Fahrzeuge fährt sich anders … und was im normalen Straßenverkehr vielleicht kein großes Ding ist\, stellt sich unter der Anspannung im Einsatz noch 1x ganz anders dar. Dazu gehören auch äußere Einflüsse wie schlechte Sicht- oder Straßenverhältnisse. Das Führen eines Fahrzeuges in der Nacht unterscheidet sich komplett von dem am Tag. \n… und so gilt es auch beim Fahren unter Sonderrechten\, hinter dem Steuer stets einen kühlen Kopf zu bewahren. Auch wenn es mit unseren LKW mitunter mal eng in der Rettungsgasse wird\, auch wenn wir unübersichtliche und verkehrsreiche Kreuzungen queeren und auch wenn es die Einsatzlage notwendig macht\, unter Blaulicht und Martinshorn die rote Ampel vorsichtig zu überfahren. \nDem Maschinisten kommt dabei die verantwortungsvolle Aufgabe zuteil\, alle – Mannschaft wie Ausrüstung – schnell und sicher zur Einsatzstelle zu bringen. \nFahrzeugeFahrzeugkunde\nEinsatz / Bedienung \nAggregateWas haben wir an Bord?\nWie setze ich es ein? \nWerkzeugeWas haben wir an Bord?\nWie setze ich es ein? \nUm zielgerichtet vor Ort helfen zu können\, ist auch das Wissen rund um das Fahrzeug selbst von entscheidender Bedeutung. Wo ist welches Einsatzmittel / Werkzeug verlastet? Wie funktionieren der Stromerzeuger oder die Pumpe? Dies sind Kenntnisse von denen unter Umständen der Einsatzerfolg abhängt. \nDer Einsatz und das Bedienen unserer Drehleiter stellt dabei eine Klasse für sich dar. Kein anderes Fahrzeug / Rettungsmittel ist so komplex und anspruchsvoll in der Bedienung. Das beginnt bei der Aufstellung und endet bei Zusatzanbauteilen\, wie z. B. dem Wasserwerfer\, den Scheinwerfern oder der Krankentrage.
URL:https://www.feuerwehr-raisdorf.de/termine/drehleiter-maschinisten-ausbildung/
LOCATION:Feuerwehr Raisdorf\, Bahnhofstraße 11-15\, Schwentinental\, 24223
ATTACH;FMTTYPE=image/avif:https://www.feuerwehr-raisdorf.de/wp-content/uploads/2023/12/Drehleiter-Maschinisten-Ausbildung-01-1.avif
END:VEVENT
BEGIN:VEVENT
DTSTART;TZID=Europe/Berlin:20240205T193000
DTEND;TZID=Europe/Berlin:20240205T210000
DTSTAMP:20260424T103943
CREATED:20231216T155020Z
LAST-MODIFIED:20240128T164342Z
UID:10000044-1707161400-1707166800@www.feuerwehr-raisdorf.de
SUMMARY:jährliche Unterweisungen & Belehrungen
DESCRIPTION:INHALT\nJedes Jahr stehen am Anfang die Unterweisungen und Belehrungen an. Was eher etwas trocken klingen mag\, hat im Arbeitsalltag der Feuerwehr durchaus einen Sinn. Während wir uns nicht selten in Gefahren begeben um anderen zu helfen oder gar sie zu retten\, ist es um so wichtiger sich selbst zu schützen. \nDas fängt schon beim richtigen Anlegen der persönlichen Schutzkleidung an und zieht sich dann in all unseren Handlungen und Tätigkeiten quer durch den Einsatz. Insofern macht es durchaus Sinn\, sich diese Grundsätze immer bewusst zu machen. \nGleiches gilt auch für das Funken. Was gibt es hier zu beachten? Bin ich in der richtigen Rufgruppe und\, und\, und. \nBelehrungenUnfallverhütung\nFunk \nAlarm- & AusrückeordnungFahrzeuge\nReihenfolge \nWasserrettungVortrag\nZuständigkeiten \nAuch das Gebiet der Wasserrettung ist ein wichtiges Thema. So ist die Schwentine in einzelne Abschnitte unterteilt. Für welche wir zuständig sind – und was bei einer Wasserrettung zu beachten ist\, wird in diesem Vortrag erklärt. \nAuch darin enthalten: Wie arbeiten wir mit den Feuerwehren aus den angrenzenden Abschnitten zusammen?
URL:https://www.feuerwehr-raisdorf.de/termine/jaehrliche-unterweisungen-belehrungen/
LOCATION:Feuerwehr Raisdorf\, Bahnhofstraße 11-15\, Schwentinental\, 24223
ATTACH;FMTTYPE=image/avif:https://www.feuerwehr-raisdorf.de/wp-content/uploads/2023/12/jaehrliche-Belehrungen-Unterweisungen.avif
END:VEVENT
BEGIN:VEVENT
DTSTART;TZID=Europe/Berlin:20240201T200000
DTEND;TZID=Europe/Berlin:20240201T213000
DTSTAMP:20260424T103943
CREATED:20231228T160754Z
LAST-MODIFIED:20240128T115833Z
UID:10000174-1706817600-1706823000@www.feuerwehr-raisdorf.de
SUMMARY:Betriebssport
DESCRIPTION:INHALT\nWarum Betriebssport? \nSport ist für Feuerwehrleute wichtig\, weil er ihre körperliche und geistige Leistungsfähigkeit verbessert\, die Gesundheit fördert und das Teamgefühl stärkt. Oft müssen wir unter extremen Bedingungen arbeiten\, die hohe Anforderungen an die eigene Kraft\, Ausdauer\, Reaktion und Koordination stellen. \nRegelmäßiges Training hilft uns dabei\, sich auf diese Herausforderungen vorzubereiten\, die Einsatzbereitschaft zu sichern und das Risiko von Verletzungen oder Erkrankungen zu verringern. Außerdem kann Sport für Ausgeglichenheit im Alltag sorgen und die Stressbewältigung erleichtern. \nDie sportliche Aktivität ist auch wichtig\, um die Bindung im Team zu fördern und die Kommunikation und Zusammenarbeit im Einsatz zu verbessern. \nDienstjeden Dienstag\n20:00 Uhr \nSportvielfältiges Sportprogramm\n… und ganz viel Spaß \nKleidungreguläre Sportkleidung\nHallenturnschuhe \nIm Rahmen des Betriebssportes\, bietet unser Sportwart Jürgen Pauly ein abwechslungsreiches und vielfältiges Sport – Programm an\, bei dem fast jeder Muskel auf seine Kosten kommt. Dass bei so manchem Workout der Spaß ebenfalls seinen festen Platz hat\, beweist schon Jürgens Spitzname „Drillsergeant Pauly“\, unter dem er augenzwinkernd bekannt ist. \nWähren der Fokus überwiegend auf die Schulsporthalle in Raisdorf gerichtet ist\, so geht es im Sommer auch gerne mal raus. Mal wird im kühlen Nass des Freibades trainiert\, mal geht es mit den Laufschuhen auf einen sportlichen Parcours … und manche Runde wird auf dem Fahrrad bewältigt. \nWer noch mehr machen möchte\, für den besteht noch die zusätzliche Möglichkeit\, das Deutsche Feuerwehr-Fitness-Abzeichen sportlich zu erarbeiten.
URL:https://www.feuerwehr-raisdorf.de/termine/betriebssport-4/
LOCATION:Feuerwehr Raisdorf\, Bahnhofstraße 11-15\, Schwentinental\, 24223
ATTACH;FMTTYPE=image/avif:https://www.feuerwehr-raisdorf.de/wp-content/uploads/2023/12/Feuerwehr-Betriebssport.avif
END:VEVENT
BEGIN:VEVENT
DTSTART;TZID=Europe/Berlin:20240127T160000
DTEND;TZID=Europe/Berlin:20240127T190000
DTSTAMP:20260424T103943
CREATED:20231215T203422Z
LAST-MODIFIED:20240128T164244Z
UID:10000042-1706371200-1706382000@www.feuerwehr-raisdorf.de
SUMMARY:Jahreshauptversammlung - Jugendfeuerwehr
DESCRIPTION:INHALT\nEs ist wieder Zeit\, auf die Ereignisse des letzten Jahres zurück zu schauen und gleichzeitig den Blick auf 2024 und auf das Kommende zu richten. Genauso wie die „Großen“ hält auch die Jugendfeuerwehr Raisdorf einmal im Jahr ihre eigene Jahreshauptversammlung ab. \nNach der Begrüßung und der anschließenden Feststellung der Beschlussfähigkeit\, wird über die Genehmigung der Tagesordnung abgestimmt. \nIm Anschluss daran\, hat die Wehrführung das Wort. Genauso berichtet die Jugendgruppenleitung. Was ist im letzten Jahr passiert? Was war wichtig\, und welche Meilensteine sind in diesem Jahr zu bewältigen? \nBerichteBerichte &\nGrußworte \nEhrungenbesondere Verdienste\nFeuerwehrleistungsspange \nWahlenWer besetzt\nwelches Amt? \nNatürlich dürfen in diesem Zusammenhang auch nicht die Ehrungen fehlen. Hierzu zählt z. B. die Verleihung der Leistungsspange der Jugendfeuerwehr. Für besondere Leistungen wird die goldene Kübelspritze als „Wanderpokal“ im jährlichen Turnus verliehen. \nTurnusgemäß stehen auch die folgenden Wahlen an: \n\nJugendgruppenleitung\n1. Jugendgruppenführung\n2. Jugendgruppenführung\nKassenwart-/in\nSchriftwart-/in\n\nAuch die Gäste haben das Wort. Gegen Ende der Veranstaltung erfolgt unter dem Punkt Verschiedenes ein allgemeiner Austausch.
URL:https://www.feuerwehr-raisdorf.de/termine/jahreshauptversammlung-jugendfeuerwehr/
LOCATION:Feuerwehr Raisdorf\, Bahnhofstraße 11-15\, Schwentinental\, 24223
ATTACH;FMTTYPE=image/avif:https://www.feuerwehr-raisdorf.de/wp-content/uploads/2023/12/Jahreshauptversammlung-Jugendfeuerwehr.avif
END:VEVENT
BEGIN:VEVENT
DTSTART;TZID=Europe/Berlin:20240125T200000
DTEND;TZID=Europe/Berlin:20240125T213000
DTSTAMP:20260424T103943
CREATED:20231228T160700Z
LAST-MODIFIED:20240128T115959Z
UID:10000173-1706212800-1706218200@www.feuerwehr-raisdorf.de
SUMMARY:Betriebssport
DESCRIPTION:INHALT\nWarum Betriebssport? \nSport ist für Feuerwehrleute wichtig\, weil er ihre körperliche und geistige Leistungsfähigkeit verbessert\, die Gesundheit fördert und das Teamgefühl stärkt. Oft müssen wir unter extremen Bedingungen arbeiten\, die hohe Anforderungen an die eigene Kraft\, Ausdauer\, Reaktion und Koordination stellen. \nRegelmäßiges Training hilft uns dabei\, sich auf diese Herausforderungen vorzubereiten\, die Einsatzbereitschaft zu sichern und das Risiko von Verletzungen oder Erkrankungen zu verringern. Außerdem kann Sport für Ausgeglichenheit im Alltag sorgen und die Stressbewältigung erleichtern. \nDie sportliche Aktivität ist auch wichtig\, um die Bindung im Team zu fördern und die Kommunikation und Zusammenarbeit im Einsatz zu verbessern. \nDienstjeden Dienstag\n20:00 Uhr \nSportvielfältiges Sportprogramm\n… und ganz viel Spaß \nKleidungreguläre Sportkleidung\nHallenturnschuhe \nIm Rahmen des Betriebssportes\, bietet unser Sportwart Jürgen Pauly ein abwechslungsreiches und vielfältiges Sport – Programm an\, bei dem fast jeder Muskel auf seine Kosten kommt. Dass bei so manchem Workout der Spaß ebenfalls seinen festen Platz hat\, beweist schon Jürgens Spitzname „Drillsergeant Pauly“\, unter dem er augenzwinkernd bekannt ist. \nWähren der Fokus überwiegend auf die Schulsporthalle in Raisdorf gerichtet ist\, so geht es im Sommer auch gerne mal raus. Mal wird im kühlen Nass des Freibades trainiert\, mal geht es mit den Laufschuhen auf einen sportlichen Parcours … und manche Runde wird auf dem Fahrrad bewältigt. \nWer noch mehr machen möchte\, für den besteht noch die zusätzliche Möglichkeit\, das Deutsche Feuerwehr-Fitness-Abzeichen sportlich zu erarbeiten.
URL:https://www.feuerwehr-raisdorf.de/termine/betriebssport-3/
LOCATION:Feuerwehr Raisdorf\, Bahnhofstraße 11-15\, Schwentinental\, 24223
ATTACH;FMTTYPE=image/avif:https://www.feuerwehr-raisdorf.de/wp-content/uploads/2023/12/Feuerwehr-Betriebssport.avif
END:VEVENT
BEGIN:VEVENT
DTSTART;TZID=Europe/Berlin:20240122T193000
DTEND;TZID=Europe/Berlin:20240122T210000
DTSTAMP:20260424T103943
CREATED:20231215T203209Z
LAST-MODIFIED:20240113T125916Z
UID:10000041-1705951800-1705957200@www.feuerwehr-raisdorf.de
SUMMARY:Vortrag PV Anlagen / Speichermedien & Elektromobilität
DESCRIPTION:INHALT\nVor dem Hintergrund des Klimawandels\, rückt die Debatte um die Energiewende immer mehr in den Fokus. Neben der Nutzung von Wind und Wasser zur Energiegewinnung\, halten auch Photovoltaik – Module auf den Dächern oder an Balkonen ihren Einzug. \nPhotovoltaik – Anlagen oder die Solarmodule selbst\, gelten als sehr sicher im Betrieb. Dass Anlagenteile selbst in Brand geraten\, kommt eher selten vor. Doch wie gehen wir als Feuerwehr vor\, wenn diese Anlagen / Module doch einmal brennen? … denn mit der sich steigernden Anzahl dieser Anlagen\, steigt natürlich auch die (statistische) Wahrscheinlichkeit\, in Bezug auf mögliche technische Defekte und eine Brandentwicklung. \nIn diesem Dienst wird diese Frage – neben weiteren Informationen – beantwortet. \nVortragInfos &\ntechnische Hintergründe \nPV – AnlagenEinsatztaktik &\nBrandbekämpfung \nElektromobilitätTechnische Hilfe\nBrandbekämpfung \nDie Elektromobilität stellt uns als Feuerwehr vor neue Herausforderungen. Verunfallt ein Fahrzeug\, so besteht immer ein Restrisiko\, dass die Steuereinheit des PKW das Fahrzeug nicht komplett stromlos geschaltet hat: In der Folge stehen die Leitungen immer noch unter Hochspannung. Im schlimmsten Fall kann das sowohl für die Verunfallten als auch für uns Rettungskräfte zu einer nicht zu unterschätzenden Gefahr werden. \nAuch wenn Elektroautos nicht häufiger brennen\, so unterscheidet sich die Brandbekämpfung deutlich von einem Fahrzeug\, das mit fossilen Brennstoffen betrieben wird. Gerät die Hochvoltbatterie in Brand\, wird viel mehr Wasser zum Löschen und für die anschließende Kühlung benötigt.
URL:https://www.feuerwehr-raisdorf.de/termine/vortrag-pv-anlagen-speichermedien-elektromobilitaet/
LOCATION:Feuerwehr Raisdorf\, Bahnhofstraße 11-15\, Schwentinental\, 24223
ATTACH;FMTTYPE=image/avif:https://www.feuerwehr-raisdorf.de/wp-content/uploads/2023/12/Vortrag-PV-Anlagen-Speichermedien-Elektromobilitaet-1.avif
END:VEVENT
BEGIN:VEVENT
DTSTART;TZID=Europe/Berlin:20240120T150000
DTEND;TZID=Europe/Berlin:20240120T200000
DTSTAMP:20260424T103943
CREATED:20231216T154258Z
LAST-MODIFIED:20240128T164151Z
UID:10000043-1705762800-1705780800@www.feuerwehr-raisdorf.de
SUMMARY:Neujahresgespräch - fördernde Mitglieder
DESCRIPTION:INHALT\nDie Feuerwehr lebt nicht nur von ihren Mitgliedern\, sondern genauso auch von ihren Unterstützern. \nDas Neujahresgespräch ist aus diesem Grund für uns eine guter Anlass\, auch unseren fördernden Mitgliedern 1x Danke zu sagen. \nAn diesem Tag bietet sich allen die Gelegenheit\, unser Feuerwehrhaus im Rahmen einer kleinen Führung näher kennenzulernen. Natürlich versuchen wir dabei auch\, jede Frage zu beantworten: Seien es die Fahrzeuge\, das Einsatzgeschehen oder zur Feuerwehr überhaupt. \nIm Anschluss gibt es frischen Kaffee und selbstgemachten Kuchen. Das dabei schon so manches gute Gespräch über Gott und die Welt\, die neuen Eindrücke oder über die Feuerwehr selbst entstanden ist\, beweist der rege Austausch jeweils aufs Neue. \nMeet & GreetEine gute Gelegenheit\,\nins Gespräch zu kommen \nein kleines Dankeschönin Form von\nKaffee & Kuchen \nNewsInfos rund um unsere Wehr\nWas gibt es Neues? \nGenauso wichtig ist es auch\, ein wenig aus dem Feuerwehr – Nähkästchen zu plaudern. Gerne geben wir einen Überblick über unsere ehrenamtliche Tätigkeit. Was gibt es Neues – und was konnten wir uns dank der Förderung vielleicht noch anschaffen. \nDabei lassen wir es uns nicht nehmen auch das Werkzeug oder Einsatzmittel einmal vorzuführen.
URL:https://www.feuerwehr-raisdorf.de/termine/neujahresgespraech-foerdernde-mitglieder/
LOCATION:Feuerwehr Raisdorf\, Bahnhofstraße 11-15\, Schwentinental\, 24223
ATTACH;FMTTYPE=image/avif:https://www.feuerwehr-raisdorf.de/wp-content/uploads/2023/12/Neujahrsgespraech-mit-den-foerdernden-Mitgliedern.avif
END:VEVENT
BEGIN:VEVENT
DTSTART;TZID=Europe/Berlin:20240116T200000
DTEND;TZID=Europe/Berlin:20240116T220000
DTSTAMP:20260424T103943
CREATED:20231228T160627Z
LAST-MODIFIED:20231228T160627Z
UID:10000172-1705435200-1705442400@www.feuerwehr-raisdorf.de
SUMMARY:Betriebssport
DESCRIPTION:INHALT\nWarum Betriebssport? \nSport ist für Feuerwehrleute wichtig\, weil er ihre körperliche und geistige Leistungsfähigkeit verbessert\, die Gesundheit fördert und das Teamgefühl stärkt. Oft müssen wir unter extremen Bedingungen arbeiten\, die hohe Anforderungen an die eigene Kraft\, Ausdauer\, Reaktion und Koordination stellen. \nRegelmäßiges Training hilft uns dabei\, sich auf diese Herausforderungen vorzubereiten\, die Einsatzbereitschaft zu sichern und das Risiko von Verletzungen oder Erkrankungen zu verringern. Außerdem kann Sport für Ausgeglichenheit im Alltag sorgen und die Stressbewältigung erleichtern. \nDie sportliche Aktivität ist auch wichtig\, um die Bindung im Team zu fördern und die Kommunikation und Zusammenarbeit im Einsatz zu verbessern. \nDienstjeden Dienstag\n20:00 Uhr \nSportvielfältiges Sportprogramm\n… und ganz viel Spaß \nKleidungreguläre Sportkleidung\nHallenturnschuhe \nIm Rahmen des Betriebssportes\, bietet unser Sportwart Jürgen Pauly ein abwechslungsreiches und vielfältiges Sport – Programm an\, bei dem fast jeder Muskel auf seine Kosten kommt. Dass bei so manchem Workout der Spaß ebenfalls seinen festen Platz hat\, beweist schon Jürgens Spitzname „Drillsergeant Pauly“\, unter dem er augenzwinkernd bekannt ist. \nWähren der Fokus überwiegend auf die Schulsporthalle in Raisdorf gerichtet ist\, so geht es im Sommer auch gerne mal raus. Mal wird im kühlen Nass des Freibades trainiert\, mal geht es mit den Laufschuhen auf einen sportlichen Parcours … und manche Runde wird auf dem Fahrrad bewältigt. \nWer noch mehr machen möchte\, für den besteht noch die zusätzliche Möglichkeit\, das Deutsche Feuerwehr-Fitness-Abzeichen sportlich zu erarbeiten.
URL:https://www.feuerwehr-raisdorf.de/termine/betriebssport/
LOCATION:Feuerwehr Raisdorf\, Bahnhofstraße 11-15\, Schwentinental\, 24223
ATTACH;FMTTYPE=image/avif:https://www.feuerwehr-raisdorf.de/wp-content/uploads/2023/12/Feuerwehr-Betriebssport.avif
END:VEVENT
BEGIN:VEVENT
DTSTART;TZID=Europe/Berlin:20240109T200000
DTEND;TZID=Europe/Berlin:20240109T220000
DTSTAMP:20260424T103943
CREATED:20231227T184007Z
LAST-MODIFIED:20231228T155953Z
UID:10000085-1704830400-1704837600@www.feuerwehr-raisdorf.de
SUMMARY:Betriebssport
DESCRIPTION:INHALT\nWarum Betriebssport? \nSport ist für Feuerwehrleute wichtig\, weil er ihre körperliche und geistige Leistungsfähigkeit verbessert\, die Gesundheit fördert und das Teamgefühl stärkt. Oft müssen wir unter extremen Bedingungen arbeiten\, die hohe Anforderungen an die eigene Kraft\, Ausdauer\, Reaktion und Koordination stellen. \nRegelmäßiges Training hilft uns dabei\, sich auf diese Herausforderungen vorzubereiten\, die Einsatzbereitschaft zu sichern und das Risiko von Verletzungen oder Erkrankungen zu verringern. Außerdem kann Sport für Ausgeglichenheit im Alltag sorgen und die Stressbewältigung erleichtern. \nDie sportliche Aktivität ist auch wichtig\, um die Bindung im Team zu fördern und die Kommunikation und Zusammenarbeit im Einsatz zu verbessern. \nDienstjeden Dienstag\n20:00 Uhr \nSportvielfältiges Sportprogramm\n… und ganz viel Spaß \nKleidungreguläre Sportkleidung\nHallenturnschuhe \nIm Rahmen des Betriebssportes\, bietet unser Sportwart Jürgen Pauly ein abwechslungsreiches und vielfältiges Sport – Programm an\, bei dem fast jeder Muskel auf seine Kosten kommt. Dass bei so manchem Workout der Spaß ebenfalls seinen festen Platz hat\, beweist schon Jürgens Spitzname „Drillsergeant Pauly“\, unter dem er augenzwinkernd bekannt ist. \nWähren der Fokus überwiegend auf die Schulsporthalle in Raisdorf gerichtet ist\, so geht es im Sommer auch gerne mal raus. Mal wird im kühlen Nass des Freibades trainiert\, mal geht es mit den Laufschuhen auf einen sportlichen Parcours … und manche Runde wird auf dem Fahrrad bewältigt. \nWer noch mehr machen möchte\, für den besteht noch die zusätzliche Möglichkeit\, das Deutsche Feuerwehr-Fitness-Abzeichen sportlich zu erarbeiten.
URL:https://www.feuerwehr-raisdorf.de/termine/betriebssport-2/
LOCATION:Feuerwehr Raisdorf\, Bahnhofstraße 11-15\, Schwentinental\, 24223
ATTACH;FMTTYPE=image/avif:https://www.feuerwehr-raisdorf.de/wp-content/uploads/2023/12/Feuerwehr-Betriebssport.avif
END:VEVENT
BEGIN:VEVENT
DTSTART;TZID=Europe/Berlin:20240108T193000
DTEND;TZID=Europe/Berlin:20240108T210000
DTSTAMP:20260424T103943
CREATED:20231215T202853Z
LAST-MODIFIED:20240128T164156Z
UID:10000040-1704742200-1704747600@www.feuerwehr-raisdorf.de
SUMMARY:Dienstversammlung / Auswertung Gruppengespräche
DESCRIPTION:INHALT\nDer erste Dienst des „neuen“ Jahres\, startet mit einer Dienstversammlung:\nHier präsentieren die Gruppenleiter die Inhalte und Ergebnisse aus den – im letzten Jahr geführten – Gruppengesprächen. \nNeben der sogenannten Manöverkritik „was ist gut gelaufen / was können wir besser“\, bieten die Gespräche auch einen Raum für Anregungen oder Wünsche. \nOft finden sich diese auch in der Gestaltung des Dienstplanes wieder\, wenn z. B. Wünsche zu bestimmten Themen oder Inhalten in den Diensten angeregt werden. Ergänzend hierzu\, wird der neue und abgestimmte Dienstplan vorgestellt. Dieser enthält neben den regulären Diensten auch Sonderdienste oder Veranstaltungen. \nFeedbackWas ist gut gelaufen?\nWas geht besser? \nDienstplanVorstellung des\nneuen Dienstplanes \nReflektionBesprechung & Reflektion\ndes Feedbacks \nIm weiteren Verlauf dieses Dienstes wird auf die angesprochen Punkte Bezug genommen: \n\nWie gehen wir damit um?\nSoll etwas geändert werden?\nWas hat sich bewährt?
URL:https://www.feuerwehr-raisdorf.de/termine/dienstversammlung-auswertung-gruppengespraeche/
LOCATION:Feuerwehr Raisdorf\, Bahnhofstraße 11-15\, Schwentinental\, 24223
ATTACH;FMTTYPE=image/avif:https://www.feuerwehr-raisdorf.de/wp-content/uploads/2023/12/Dienstversammlung-Auswertung-Gruppengespraeche.avif
END:VEVENT
END:VCALENDAR