BEGIN:VCALENDAR
VERSION:2.0
PRODID:-//Feuerwehr Raisdorf - ECPv6.15.20//NONSGML v1.0//EN
CALSCALE:GREGORIAN
METHOD:PUBLISH
X-ORIGINAL-URL:https://www.feuerwehr-raisdorf.de
X-WR-CALDESC:Veranstaltungen für Feuerwehr Raisdorf
REFRESH-INTERVAL;VALUE=DURATION:PT1H
X-Robots-Tag:noindex
X-PUBLISHED-TTL:PT1H
BEGIN:VTIMEZONE
TZID:Europe/Berlin
BEGIN:DAYLIGHT
TZOFFSETFROM:+0100
TZOFFSETTO:+0200
TZNAME:CEST
DTSTART:20240331T010000
END:DAYLIGHT
BEGIN:STANDARD
TZOFFSETFROM:+0200
TZOFFSETTO:+0100
TZNAME:CET
DTSTART:20241027T010000
END:STANDARD
BEGIN:DAYLIGHT
TZOFFSETFROM:+0100
TZOFFSETTO:+0200
TZNAME:CEST
DTSTART:20250330T010000
END:DAYLIGHT
BEGIN:STANDARD
TZOFFSETFROM:+0200
TZOFFSETTO:+0100
TZNAME:CET
DTSTART:20251026T010000
END:STANDARD
BEGIN:DAYLIGHT
TZOFFSETFROM:+0100
TZOFFSETTO:+0200
TZNAME:CEST
DTSTART:20260329T010000
END:DAYLIGHT
BEGIN:STANDARD
TZOFFSETFROM:+0200
TZOFFSETTO:+0100
TZNAME:CET
DTSTART:20261025T010000
END:STANDARD
END:VTIMEZONE
BEGIN:VEVENT
DTSTART;TZID=Europe/Berlin:20250903T183000
DTEND;TZID=Europe/Berlin:20250903T210000
DTSTAMP:20260425T160842
CREATED:20250126T131040Z
LAST-MODIFIED:20250126T131040Z
UID:10000248-1756924200-1756933200@www.feuerwehr-raisdorf.de
SUMMARY:Drehleiter- & Maschinisten Ausbildung
DESCRIPTION:INHALT\nJedes unserer 7 Fahrzeuge fährt sich anders … und was im normalen Straßenverkehr vielleicht kein großes Ding ist\, stellt sich unter der Anspannung im Einsatz noch 1x ganz anders dar. Dazu gehören auch äußere Einflüsse wie schlechte Sicht- oder Straßenverhältnisse. Das Führen eines Fahrzeuges in der Nacht unterscheidet sich komplett von dem am Tag. \n… und so gilt es auch beim Fahren unter Sonderrechten\, hinter dem Steuer stets einen kühlen Kopf zu bewahren. Auch wenn es mit unseren LKW mitunter mal eng in der Rettungsgasse wird\, auch wenn wir unübersichtliche und verkehrsreiche Kreuzungen queeren und auch wenn es die Einsatzlage notwendig macht\, unter Blaulicht und Martinshorn die rote Ampel vorsichtig zu überfahren. \nDem Maschinisten kommt dabei die verantwortungsvolle Aufgabe zuteil\, alle – Mannschaft wie Ausrüstung – schnell und sicher zur Einsatzstelle zu bringen. \nFahrzeugeFahrzeugkunde\nEinsatz / Bedienung \nAggregateWas haben wir an Bord?\nWie setze ich es ein? \nWerkzeugeWas haben wir an Bord?\nWie setze ich es ein? \nUm zielgerichtet vor Ort helfen zu können\, ist auch das Wissen rund um das Fahrzeug selbst von entscheidender Bedeutung. Wo ist welches Einsatzmittel / Werkzeug verlastet? Wie funktionieren der Stromerzeuger oder die Pumpe? Dies sind Kenntnisse von denen unter Umständen der Einsatzerfolg abhängt. \nDer Einsatz und das Bedienen unserer Drehleiter stellt dabei eine Klasse für sich dar. Kein anderes Fahrzeug / Rettungsmittel ist so komplex und anspruchsvoll in der Bedienung. Das beginnt bei der Aufstellung und endet bei Zusatzanbauteilen\, wie z. B. dem Wasserwerfer\, den Scheinwerfern oder der Krankentrage.
URL:https://www.feuerwehr-raisdorf.de/termine/drehleiter-maschinisten-ausbildung-19/
LOCATION:Feuerwehr Raisdorf\, Bahnhofstraße 11-15\, Schwentinental\, 24223
ATTACH;FMTTYPE=image/avif:https://www.feuerwehr-raisdorf.de/wp-content/uploads/2025/01/Drehleiter-Maschinisten-Ausbildung-09.2025.avif
END:VEVENT
BEGIN:VEVENT
DTSTART;TZID=Europe/Berlin:20250908T193000
DTEND;TZID=Europe/Berlin:20250908T210000
DTSTAMP:20260425T160842
CREATED:20250127T161951Z
LAST-MODIFIED:20250127T161951Z
UID:10000274-1757359800-1757365200@www.feuerwehr-raisdorf.de
SUMMARY:Einsatzübung (Ausarbeitung durch Gruppe 3)
DESCRIPTION:INHALT\nBei den Übungsdiensten in den Gruppen liegt der Schwerpunkt auf der richtigen Handhabung und der Anwendung unserer Einsatzmittel. Auf diesen „Basics“ baut der Dienst der Einsatzübung auf. In erster Linie dient dieser Dienst der Übung\, um die Anwendung des Gelernten unter Einsatzbedingungen zu trainieren. \nFeuerwehr ist „Teamsport“. Während – wie auch im echten Einsatz – für uns alles mit der Alarmierung beginnt\, so gliedern sich die Aufgaben und Anforderungen der Einheiten und Trupps genauso in dieser Einsatzübung immer weiter auf: \nGruppenführer wollen mit ihren Fahrzeugen koordiniert werden\, wie auch sie ihre Besatzung zielgerichtet zum Einsatz bringen müssen. Auch wenn die aus Angriffs-\, Sicherungs-\, Wassertrupps und Maschinisten bestehende Besatzung in Teilen ganz unterschiedliche Aufgaben hat\, so gelingt das große Ganze nur im Zusammenspiel im eigenen Trupp wie auch mit den anderen Trupps. \nSo greift hier – bei stetig wechselnden Einsatzszenarien – vieles einander. \nAusarbeitungjede Gruppe\nÜbungszenario \nÜbungAlarmierung\nÜbungseinsatz \nAbschlussWas lief gut & was\ngibt es zu verbessern? \nJede unserer vier Gruppen ist einmal „dran“. Heißt\, dass jede Gruppe einmal eine Übung ausarbeitet. Welches Setting aus dem umfangreichen Anforderungs- und Aufgabenprofil der Feuerwehr ausgewählt wird\, bleibt der Gruppe überlassen. Auch Mischformen bestehend aus der technischen Hilfe und der Brandbekämpfung sind beliebt. \nDie Herausforderung besteht darin\, allen und ungeachtet ihrer Funktion einen spannenden und lehrreichen Dienst zu bieten – das schließt die Atemschutzgeräteträger bis zum Zugführer ein. \nIm Hintergrund begleitet die Gruppe die Übung schaut\, steuert und analysiert – um nach dem erfolgreichen Abschluss der Übung konstruktiv in die Manöverkritik zu gehen.
URL:https://www.feuerwehr-raisdorf.de/termine/einsatzuebung-ausarbeitung-durch-gruppe-3-2/
LOCATION:Feuerwehr Raisdorf\, Bahnhofstraße 11-15\, Schwentinental\, 24223
ATTACH;FMTTYPE=image/avif:https://www.feuerwehr-raisdorf.de/wp-content/uploads/2025/01/Einsatzuebung-Ausarbeitung-durch-Gruppe-3-2025.avif
END:VEVENT
BEGIN:VEVENT
DTSTART;TZID=Europe/Berlin:20250910T190000
DTEND;TZID=Europe/Berlin:20250910T190000
DTSTAMP:20260425T160842
CREATED:20250126T140822Z
LAST-MODIFIED:20250126T140822Z
UID:10000264-1757530800-1757530800@www.feuerwehr-raisdorf.de
SUMMARY:Brandgewöhnungscontainer
DESCRIPTION:INHALT\nFeuer ist nicht gleich Feuer. Dies gilt insbesondere für Wohnungsbrände. Einerseits staut sich die Wärme\, und es wird sehr schnell sehr heiß\, andererseits behindert der – durch die Verbrennung entstehende – Rauch die Sicht bzw. schränkt diese sogar vollkommen ein. Zusätzlich ist ein schneller Rückzug aus den Räumlichkeiten nicht immer möglich. \nGute Gründe also\, die Brandbekämpfung in geschlossenen Räumen intensiv zu trainieren. Hierzu steht uns der mit Holz betriebene Brandgewöhnungscontainer in der Feuerwehrtechnischen Zentrale in Preetz zur Verfügung. \nTemperaturenbis zu\n700 Grad Celsius \nFeuerBrandentwicklung\nRauchentwicklung \nTechnikenLöschtechniken\nTaktiken \nNach dem theoretischen Teil\, rüsten sich die Atemschutzgeräteträger mit ihrer persönlichen Schutzausrüstung aus.\nHierzu gehört natürlich auch die Kontrolle des Flaschendrucks sowie das Prüfen der Funktion der Warneinrichtungen. \nIm ersten Schritt wird mit der Wärmegewöhnung begonnen. Bereits jetzt kann das entstehende Feuer beim Näherkommen an den Brandherd schon ziemlich beißen. Im weiteren Verlauf schauen wir uns an wie sich das Feuer schließlich entwickelt. \nAuch ist es immer wieder eindrucksvoll\, wie schnell sich der Rauch bildet\, wie er relativ zügig von der Decke bis zum Boden herabsinkt\, um uns schließlich die komplette Sicht zu nehmen. \nFinal trainieren wir unsere Löschtechniken. In Innenräumen ist der gezielte Einsatz von Wasser immens wichtig: … denn das verdampfende Löschwasser nimmt die Wärme auf\, und diese Wärme dringt durch unsere Einsatzschutzkleidung. \nAm Übungsende heißt es dann: Feuer aus\, viel Wasser trinken und ab unter die Dusche.
URL:https://www.feuerwehr-raisdorf.de/termine/brandgewoehnungscontainer-3/
LOCATION:FTZ Preetz\, Dänenkamp 3\, Preetz\, 24211
ATTACH;FMTTYPE=image/avif:https://www.feuerwehr-raisdorf.de/wp-content/uploads/2023/12/Brandgewoehnungscontainer.avif
END:VEVENT
BEGIN:VEVENT
DTSTART;TZID=Europe/Berlin:20250922T193000
DTEND;TZID=Europe/Berlin:20250922T210000
DTSTAMP:20260425T160842
CREATED:20250126T143118Z
LAST-MODIFIED:20250126T143118Z
UID:10000270-1758569400-1758574800@www.feuerwehr-raisdorf.de
SUMMARY:Dienst in der Gruppe
DESCRIPTION:INHALT\nLange gehörte die Brandbekämpfung zur Kernkompetenz der Feuerwehr. Doch dieser Leitsatz gilt schon seit vielen Jahren nicht mehr. Während die Brandbekämpfung deutlich in den Hintergrund gerückt ist\, ist die technische Hilfe auf dem Vormarsch: Befreiung von Menschen aus Notlagen\, Türöffnungen\, technische Hilfe bei Verkehrsunfällen und das Entfernen von Wasser aus vollgelaufenen Kellern sind exemplarisch als prominente Auslöser für unsere Einsätze zu nennen. \nKurzum entwickelt sich die Feuerwehr immer weiter zu einem kommunalen Dienstleister rund um den Brandschutz & weitere Hilfeleistungen. \nGleichzeitig kommen neue Erkenntnisse in der Anwendung von Einsatzmitteln hinzu\, und die Elektromobilität stellt uns als Feuerwehr vor vollkommen neue Herausforderungen – um hier nur ein Beispiel zu nennen. \nGrundlagenFeuerwehrdienstvorschrifft\nVom Ausrücken bis zum Zivilschutz \nAuffrischungstetige Übung\nneue Techniken \nTrainingarbeiten im Team\npraktische Anwendung \nDer Dienst in der Gruppe umfasst das gesamte Spektrum\, dass auch in der Feuerwehrdienstvorschrift abgebildet ist. Unsere sich daraus ergebenden Aufgaben\, sind wirklich umfangreich. Daher dient dieser Dienst auch der Auffrischung des bereits erlernten Wissens. Gleichzeitig fließen neue Infos ein. Gibt es vielleicht ein neues Werkzeug – oder eine besondere Löschtechnik\, um beim Beispiel des Elektrofahrzeuges zu bleiben. \nFeuerwehr ist „Teamsport“\, nur gemeinsam können Aufgaben erfolgreich gelöst und abgearbeitet werden. … und so heißt es auch im kleinen Maßstab in der Gruppe mit- und untereinander in der praktischen Anwendung: üben\, üben\, üben.
URL:https://www.feuerwehr-raisdorf.de/termine/dienst-in-der-gruppe-12/
LOCATION:Feuerwehr Raisdorf\, Bahnhofstraße 11-15\, Schwentinental\, 24223
ATTACH;FMTTYPE=image/avif:https://www.feuerwehr-raisdorf.de/wp-content/uploads/2025/01/Dienst-in-der-Gruppe-2025-06.avif
END:VEVENT
BEGIN:VEVENT
DTSTART;TZID=Europe/Berlin:20250927T090000
DTEND;TZID=Europe/Berlin:20250927T120000
DTSTAMP:20260425T160842
CREATED:20250208T123002Z
LAST-MODIFIED:20250208T123227Z
UID:10000292-1758963600-1758974400@www.feuerwehr-raisdorf.de
SUMMARY:Dienst mit der Jugendfeuerwehr
DESCRIPTION:INHALT\nDie Zusammenarbeit zwischen der Jugendfeuerwehr und der Feuerwehr ist ein essenzieller Bestandteil des Erfolgs beider Organisationen. Während die Aktiven für den Ernstfall gerüstet sind\, um schnell und umfangreich Hilfe zu leisten\, bietet die Jugendfeuerwehr jungen Menschen die Möglichkeit\, sich auf spielerische Weise auf den späteren Feuerwehrdienst vorzubereiten. \nDer gemeinsame Dienst fördert den Teamgeist\, den Erfahrungsaustausch und die praktische Ausbildung. \nDurch die enge Zusammenarbeit zwischen der Jugendfeuerwehr und der Feuerwehr haben die jungen Mitglieder die Möglichkeit\, von den Erfahrungen der erfahrenen Feuerwehrleute zu profitieren. Die Jugendlichen können in realistischen Übungen ihr theoretisches Wissen in die Praxis umsetzen und lernen den Umgang mit moderner Technik und Ausrüstung. \nTeamJugendliche & Aktive\narbeiten zusammen. \nEinsätzeSzenarien mit\nPraxisbezug \nEinblickWir lernen mit &\nvoneinander \nEin weiterer wichtiger Punkt ist die praktische Ausbildung. Im gemeinsamen Dienst werden Übungen durchgeführt\, bei denen die Jugendlichen unter Anleitung der Feuerwehrleute verschiedene Szenarien durchspielen. Ob es sich um das Löschen von Bränden\, die Rettung von Personen oder den Umgang mit Gefahrstoffen handelt – die Jugendlichen erhalten einen umfassenden Einblick in die vielfältigen Aufgaben der Feuerwehr.
URL:https://www.feuerwehr-raisdorf.de/termine/dienst-mit-der-jugendfeuerwehr-2/
LOCATION:Feuerwehr Raisdorf\, Bahnhofstraße 11-15\, Schwentinental\, 24223
ATTACH;FMTTYPE=image/avif:https://www.feuerwehr-raisdorf.de/wp-content/uploads/2023/12/gemeinsame-Uebung-mit-der-Jugendfeuerwehr.avif
END:VEVENT
BEGIN:VEVENT
DTSTART;TZID=Europe/Berlin:20250929T190000
DTEND;TZID=Europe/Berlin:20250929T210000
DTSTAMP:20260425T160842
CREATED:20250129T205949Z
LAST-MODIFIED:20250129T205949Z
UID:10000288-1759172400-1759179600@www.feuerwehr-raisdorf.de
SUMMARY:Sonderdienst Technische Hilfe
DESCRIPTION:INHALT\nZur technischen Hilfeleistung (THL) bei der Feuerwehr gehören verschiedene Maßnahmen\, die darauf abzielen\, Gefahren für Menschen\, Tiere\, Umwelt und Sachwerte abzuwenden. Um zu verdeutlichen\, wie komplex unsere Aufgaben geworden sind\, geben wir hier beispielhaft eine Übersicht für technische Hilfeleistungen: \n\nVerkehrsunfälle: Rettung von Personen aus verunfallten Fahrzeugen\, Absicherung der Unfallstelle sowie Beseitigung von Trümmern bzw. auslaufenden Betriebsstoffen.\nUnwetterlagen: Beseitigung von Sturmschäden\, wie umgestürzte Bäume oder abgedeckte Dächer.\nWasser: Pumpen von Wasser aus überfluteten Kellern und Gebäuden.\nGefahrguteinsätze: Abdichten und Aufnehmen von auslaufenden gefährlichen Stoffen\, Sicherung der Einsatzstelle.\nTierrettung: Rettung von Tieren aus Notlagen\, wie z. B. aus Schächten\, Gräben\, Gewässern oder von Bäumen.\nTüröffnungen: Öffnen von Türen\, wenn Personen in Not sind und nicht selbst öffnen können. Dies gilt auch für Fahrstühle.\nStrahlenschutz: Maßnahmen zum Schutz vor radioaktiven Stoffen\n\nAusgehend von unseren Einsätzen liegen unsere Schwerpunkte der Technischen Hilfe bei Verkehrsunfällen\, Wasser- & Unwetterlagen sowie den Türöffnungen. \nTheorieGrundlagen &\nNeuigkeiten \nPraxisAnwendung anhand\ndiverser Szenarien \nAbschlussWas lief gut & was\ngibt es zu verbessern? \n… es gibt also vieles\, was immer wieder geübt werden muss. Gleichzeitig fließen dabei auch neue Erkenntnisse in unsere Arbeit ein. Was sich in der Vergangenheit bewährt hat\, kann durch die Weiterentwicklung und Forschung heute in einem ganz anderen Licht stehen. Dies gilt sowohl für die Einsatztaktik als auch für neue Werkzeuge. \nAuch der (technischen) Entwicklung rund um die Feuerwehr muss Rechnung getragen werden: Soll z. B. eine Person aus einem verunfallten PKW gerettet / befreit werden\, so gilt beim Arbeiten an einem PKW mit einem Verbrennungsmotor eine ganz andere Herangehensweise als es bei einem e-Auto der Fall ist. \nWir haben das Glück\, auf dem Areal der Feuerwehrtechnischen Zentrale in Preetz viele Szenarien rund um die Technische Hilfe trainieren zu können.
URL:https://www.feuerwehr-raisdorf.de/termine/sonderdienst-technische-hilfe-2/
LOCATION:FTZ Preetz\, Dänenkamp 3\, Preetz\, 24211
ATTACH;FMTTYPE=image/avif:https://www.feuerwehr-raisdorf.de/wp-content/uploads/2025/01/Sonderdienst-Technische-Hilfe-2025.avif
END:VEVENT
END:VCALENDAR