BEGIN:VCALENDAR
VERSION:2.0
PRODID:-//Feuerwehr Raisdorf - ECPv6.15.20//NONSGML v1.0//EN
CALSCALE:GREGORIAN
METHOD:PUBLISH
X-ORIGINAL-URL:https://www.feuerwehr-raisdorf.de
X-WR-CALDESC:Veranstaltungen für Feuerwehr Raisdorf
REFRESH-INTERVAL;VALUE=DURATION:PT1H
X-Robots-Tag:noindex
X-PUBLISHED-TTL:PT1H
BEGIN:VTIMEZONE
TZID:Europe/Berlin
BEGIN:DAYLIGHT
TZOFFSETFROM:+0100
TZOFFSETTO:+0200
TZNAME:CEST
DTSTART:20240331T010000
END:DAYLIGHT
BEGIN:STANDARD
TZOFFSETFROM:+0200
TZOFFSETTO:+0100
TZNAME:CET
DTSTART:20241027T010000
END:STANDARD
BEGIN:DAYLIGHT
TZOFFSETFROM:+0100
TZOFFSETTO:+0200
TZNAME:CEST
DTSTART:20250330T010000
END:DAYLIGHT
BEGIN:STANDARD
TZOFFSETFROM:+0200
TZOFFSETTO:+0100
TZNAME:CET
DTSTART:20251026T010000
END:STANDARD
BEGIN:DAYLIGHT
TZOFFSETFROM:+0100
TZOFFSETTO:+0200
TZNAME:CEST
DTSTART:20260329T010000
END:DAYLIGHT
BEGIN:STANDARD
TZOFFSETFROM:+0200
TZOFFSETTO:+0100
TZNAME:CET
DTSTART:20261025T010000
END:STANDARD
END:VTIMEZONE
BEGIN:VEVENT
DTSTART;TZID=Europe/Berlin:20251001T183000
DTEND;TZID=Europe/Berlin:20251001T210000
DTSTAMP:20260425T141649
CREATED:20250126T131116Z
LAST-MODIFIED:20250129T211806Z
UID:10000249-1759343400-1759352400@www.feuerwehr-raisdorf.de
SUMMARY:Drehleiter- & Maschinisten Ausbildung
DESCRIPTION:INHALT\nJedes unserer 7 Fahrzeuge fährt sich anders … und was im normalen Straßenverkehr vielleicht kein großes Ding ist\, stellt sich unter der Anspannung im Einsatz noch 1x ganz anders dar. Dazu gehören auch äußere Einflüsse wie schlechte Sicht- oder Straßenverhältnisse. Das Führen eines Fahrzeuges in der Nacht unterscheidet sich komplett von dem am Tag. \n… und so gilt es auch beim Fahren unter Sonderrechten\, hinter dem Steuer stets einen kühlen Kopf zu bewahren. Auch wenn es mit unseren LKW mitunter mal eng in der Rettungsgasse wird\, auch wenn wir unübersichtliche und verkehrsreiche Kreuzungen queeren und auch wenn es die Einsatzlage notwendig macht\, unter Blaulicht und Martinshorn die rote Ampel vorsichtig zu überfahren. \nDem Maschinisten kommt dabei die verantwortungsvolle Aufgabe zuteil\, alle – Mannschaft wie Ausrüstung – schnell und sicher zur Einsatzstelle zu bringen. \nFahrzeugeFahrzeugkunde\nEinsatz / Bedienung \nAggregateWas haben wir an Bord?\nWie setze ich es ein? \nWerkzeugeWas haben wir an Bord?\nWie setze ich es ein? \nUm zielgerichtet vor Ort helfen zu können\, ist auch das Wissen rund um das Fahrzeug selbst von entscheidender Bedeutung. Wo ist welches Einsatzmittel / Werkzeug verlastet? Wie funktionieren der Stromerzeuger oder die Pumpe? Dies sind Kenntnisse von denen unter Umständen der Einsatzerfolg abhängt. \nDer Einsatz und das Bedienen unserer Drehleiter stellt dabei eine Klasse für sich dar. Kein anderes Fahrzeug / Rettungsmittel ist so komplex und anspruchsvoll in der Bedienung. Das beginnt bei der Aufstellung und endet bei Zusatzanbauteilen\, wie z. B. dem Wasserwerfer\, den Scheinwerfern oder der Krankentrage.
URL:https://www.feuerwehr-raisdorf.de/termine/drehleiter-maschinisten-ausbildung-20/
LOCATION:Feuerwehr Raisdorf\, Bahnhofstraße 11-15\, Schwentinental\, 24223
ATTACH;FMTTYPE=image/avif:https://www.feuerwehr-raisdorf.de/wp-content/uploads/2025/01/Drehleiter-Maschinisten-Ausbildung-10.2025-1.avif
END:VEVENT
BEGIN:VEVENT
DTSTART;TZID=Europe/Berlin:20251006T193000
DTEND;TZID=Europe/Berlin:20251006T210000
DTSTAMP:20260425T141649
CREATED:20250208T135758Z
LAST-MODIFIED:20250208T135758Z
UID:10000295-1759779000-1759784400@www.feuerwehr-raisdorf.de
SUMMARY:Besuch zur besonderen Verwendung
DESCRIPTION:INHALT\nDa nur die Übung den Meister macht\, geht es in unseren Diensten stets darum\, das Erlernte zielgerichtet in die Praxis umzusetzen. Zusätzlich fließen dabei auch stets neue Erkenntnisse aus der feuerwehrtechnischen Tätigkeit mit ein. Natürlich immer mit dem Ziel\, im Falle des Falles gerüstet zu sein und dabei adäquat helfen zu können. \nDer Dienst zur besonderen Verwendung unterscheidet sich dabei grundlegend von unseren regulären Diensten. Hier gilt es auch mal über den Tellerrand zu schauen – oder einen Blick hinter die Kullissen zu werfen. Dabei muss das Ziel dieser Fahrt ins Blaue nicht unbedingt einen Bezug auf die Feuerwehr haben. Spannend und interessant ist es allerdings jedes Mal. \nmal etwas anderesFahrt ins\nBlaue \nTellerrandDa schauen wir\nmal rüber \nlohnt sichimmer wieder\nauf´s Neue \nHaben Sie schon einmal einen Seenotrettungskreuzer besichtigt\, waren auf dem Portalkran einer großen Werft\, haben dort die Werkfeuerwehr besichtigt…? Oder kennen Sie das Gut Schierensee bzw. sind im Planetarium durch die Milchstraße gereist? \nAuch wenn dies nur ein kleiner Auszug ist: Es gibt viel zu entdecken.
URL:https://www.feuerwehr-raisdorf.de/termine/besuch-zur-besonderen-verwendung-2/
LOCATION:Feuerwehr Raisdorf\, Bahnhofstraße 11-15\, Schwentinental\, 24223
ATTACH;FMTTYPE=image/avif:https://www.feuerwehr-raisdorf.de/wp-content/uploads/2023/12/Besuch-zur-besonderen-Verwendung.avif
END:VEVENT
BEGIN:VEVENT
DTSTART;TZID=Europe/Berlin:20251018T090000
DTEND;TZID=Europe/Berlin:20251018T140000
DTSTAMP:20260425T141649
CREATED:20250127T173339Z
LAST-MODIFIED:20250127T173339Z
UID:10000280-1760778000-1760796000@www.feuerwehr-raisdorf.de
SUMMARY:Hydrantendienst
DESCRIPTION:INHALT\nDer Hydrantendienst spielt eine entscheidende Rolle in der öffentlichen Sicherheit und im Brandschutz. Hydranten sind nicht nur einfache Wasserquellen\, sondern lebenswichtige Werkzeuge\, die im Notfall schnelle und effiziente Hilfe ermöglichen. \nHydranten dienen uns als Zugangspunkte zum Wasserversorgungssystem und sind speziell für die Brandbekämpfung konzipiert. Sie ermöglichen es uns\, schnell große Mengen Wasser zu entnehmen\, um Brände zu löschen. Ohne gut gewartete Hydranten wäre die Brandbekämpfung erheblich erschwert\, was zu größeren Schäden und höheren Risiken für Menschenleben führen könnte. \nAus diesem Grund ist dieser jährliche Dienst so wichtig.\nGleichzeitig nutzen wir Wartung und Überprüfung der Hydranten\, um unsere Ortskenntnisse (was finde ich wo?) stets aufs Neue aufzufrischen. \nHydrantenWartung\nOrtskunde \nBrandschutzWasserentnahme\nBrandbekämpfung \nParkenniemals auf\nHydrantendeckeln \nRegelmäßige Wartung und Inspektion von Hydranten sind unerlässlich\, um ihre Funktionsfähigkeit sicherzustellen. Dies umfasst: \n\nVisuelle Inspektion: Überprüfung auf sichtbare Schäden oder Hindernisse.\nFunktionsprüfung: Sicherstellen\, dass der Hydrant ordnungsgemäß öffnet und schließt und dass Wasser mit ausreichendem Druck fließt.\nReinigung: Entfernen von Schmutz und Ablagerungen\, die die Funktion beeinträchtigen könnten.\nWintervorbereitung: Schutz vor Frostschäden durch Entwässerung und Isolierung.\n\nAber auch Sie können uns helfen: \n\nBitte achten Sie beim Abstellen Ihres Fahrzeuges darauf\, dass der PKW nicht auf den ovalen Hydrantendeckeln steht.\nGenauso wichtig: Bitte versperren Sie auch nicht anderweitig den Zugang zu dieser doch so wichtigen Wasserentnahmestelle.
URL:https://www.feuerwehr-raisdorf.de/termine/hydrantendienst-2/
LOCATION:Feuerwehr Raisdorf\, Bahnhofstraße 11-15\, Schwentinental\, 24223
ATTACH;FMTTYPE=image/avif:https://www.feuerwehr-raisdorf.de/wp-content/uploads/2023/12/Hydrantendienst.avif
END:VEVENT
BEGIN:VEVENT
DTSTART;TZID=Europe/Berlin:20251020T193000
DTEND;TZID=Europe/Berlin:20251020T210000
DTSTAMP:20260425T141649
CREATED:20250129T211128Z
LAST-MODIFIED:20250129T211128Z
UID:10000289-1760988600-1760994000@www.feuerwehr-raisdorf.de
SUMMARY:Jahresabschlussübung
DESCRIPTION:INHALT\nWährend uns ein Blick in die Regale der Supermärkte wahrmachen will\, dass es bereits 5 vor Weihnachten und das Jahresende fast erreicht ist\, so ist für uns noch lange nicht Schluss. Gleichwohl neigt sich auch unser Übungsdienst – zumindest im Außenbereich – langsam seinem Ende entgegen. \nRückblickend haben wir in zahlreichen Diensten unser Know-how angewendet und trainiert. \nHierzu zählen unter anderem: \n\nDienst in den Gruppen\,\nEinsatzübungen\,\nSonderdienste und\nStationsausbildungen\n\nGrundlagenFeuerwehrdienstvorschrifft\nVom Ausrücken bis zum Zivilschutz \nAuffrischungstetige Übung\nneue Techniken \nTrainingarbeiten im Team\npraktische Anwendung \nTraditionell steht am Ende die Jahresabschlussübung. Die in einem großen Szenario angelegte Übung bildet anhand eines komplexen Einsatzspektrums die Gelegenheit\, unsere Fähigkeiten unter Beweis zu stellen und diese Kenntnisse im Rahmen dieser Übung weiter zu vertiefen.
URL:https://www.feuerwehr-raisdorf.de/termine/jahresabschlussuebung-2/
LOCATION:Feuerwehr Raisdorf\, Bahnhofstraße 11-15\, Schwentinental\, 24223
ATTACH;FMTTYPE=image/avif:https://www.feuerwehr-raisdorf.de/wp-content/uploads/2025/01/Jahresabschlussuebung-2025.avif
END:VEVENT
END:VCALENDAR