BEGIN:VCALENDAR
VERSION:2.0
PRODID:-//Feuerwehr Raisdorf - ECPv6.15.20//NONSGML v1.0//EN
CALSCALE:GREGORIAN
METHOD:PUBLISH
X-WR-CALNAME:Feuerwehr Raisdorf
X-ORIGINAL-URL:https://www.feuerwehr-raisdorf.de
X-WR-CALDESC:Veranstaltungen für Feuerwehr Raisdorf
REFRESH-INTERVAL;VALUE=DURATION:PT1H
X-Robots-Tag:noindex
X-PUBLISHED-TTL:PT1H
BEGIN:VTIMEZONE
TZID:Europe/Berlin
BEGIN:DAYLIGHT
TZOFFSETFROM:+0100
TZOFFSETTO:+0200
TZNAME:CEST
DTSTART:20250330T010000
END:DAYLIGHT
BEGIN:STANDARD
TZOFFSETFROM:+0200
TZOFFSETTO:+0100
TZNAME:CET
DTSTART:20251026T010000
END:STANDARD
BEGIN:DAYLIGHT
TZOFFSETFROM:+0100
TZOFFSETTO:+0200
TZNAME:CEST
DTSTART:20260329T010000
END:DAYLIGHT
BEGIN:STANDARD
TZOFFSETFROM:+0200
TZOFFSETTO:+0100
TZNAME:CET
DTSTART:20261025T010000
END:STANDARD
BEGIN:DAYLIGHT
TZOFFSETFROM:+0100
TZOFFSETTO:+0200
TZNAME:CEST
DTSTART:20270328T010000
END:DAYLIGHT
BEGIN:STANDARD
TZOFFSETFROM:+0200
TZOFFSETTO:+0100
TZNAME:CET
DTSTART:20271031T010000
END:STANDARD
END:VTIMEZONE
BEGIN:VEVENT
DTSTART;TZID=Europe/Berlin:20260105T193000
DTEND;TZID=Europe/Berlin:20260105T210000
DTSTAMP:20260421T181030
CREATED:20250129T204606Z
LAST-MODIFIED:20250129T204606Z
UID:10000287-1767641400-1767646800@www.feuerwehr-raisdorf.de
SUMMARY:Dienstversammlung / Auswertung der Gruppengespräche
DESCRIPTION:INHALT\nWie hier schon im Kalender berichtet\, bilden die Jahresabschlussgespräche einen wichtigen Bestandteil in Bezug auf die Arbeit bei der Freiwilligen Feuerwehr: Sie dienen dazu\, das vergangene Jahr zu reflektieren\, Erfolge zu feiern und Herausforderungen zu besprechen. \nEin Hauptaugenmerk liegt auf der Reflexion der Dienste und der Einsätze. Dieser Rückblick ermöglicht es uns\, die Arbeit des Jahres zu analysieren und wichtige Erkenntnisse für die Zukunft zu gewinnen: Was lief gut\, woran müssen wir noch arbeiten\, was kann verbessert werden? \nEin weiterer wichtiger Punkt ist die Aus- und Weiterbildung. Es wird besprochen\, welche Schulungen und Fortbildungen im vergangenen Jahr durchgeführt wurden und welche im kommenden Jahr geplant sind. Dies ist entscheidend\, um uns als Einsatzkräfte auf dem neuesten Stand zu halten und unsere Fähigkeiten kontinuierlich zu verbessern. \nGleichzeitig bieten die Gespräche auch Raum\, um Wünsche über die Ausgestaltung der Dienste für das nächste Jahr abzugeben bzw. mit einzubringen. \nReflexionwas lief gut\nwas geht besser \nPlanungSchulungen\nDienste \nDienstplanDienste\, Veranstaltungen &\nSonderdienste \nIn unserem ersten Dienst des neuen Jahres berichten die Gruppenführer über Ergebnisse der Gespräche. Die Inhalte werden dabei gruppenübergreifend zusammengefasst. Bereits im Vorwege sind Wünsche aus den Gruppen in die neue Dienstplanung eingeflossen. In diesem Zusammenhang wird der Plan der Wehr präsentiert. \nGleichwohl werden Maßnahmen\, die sich aus den Gesprächen ableiten lassen\, gemeinsam in der großen Runde besprochen. \nIn diesem Sinne: Uns allen ein gutes neues Jahr. 🙂
URL:https://www.feuerwehr-raisdorf.de/termine/dienstversammlung-auswertung-der-gruppengespraeche-2/
LOCATION:Feuerwehr Raisdorf\, Bahnhofstraße 11-15\, Schwentinental\, 24223
ATTACH;FMTTYPE=image/avif:https://www.feuerwehr-raisdorf.de/wp-content/uploads/2025/01/Dienstversammlung-Auswertung-der-Gruppengespraeche-2025.avif
END:VEVENT
BEGIN:VEVENT
DTSTART;TZID=Europe/Berlin:20260107T183000
DTEND;TZID=Europe/Berlin:20260107T210000
DTSTAMP:20260421T181030
CREATED:20260221T163151Z
LAST-MODIFIED:20260221T164500Z
UID:10000298-1767810600-1767819600@www.feuerwehr-raisdorf.de
SUMMARY:Drehleiter- & Maschinisten Ausbildung 01.2026
DESCRIPTION:INHALT\nJedes unserer 7 Fahrzeuge fährt sich anders … und was im normalen Straßenverkehr vielleicht kein großes Ding ist\, stellt sich unter der Anspannung im Einsatz noch 1x ganz anders dar. Dazu gehören auch äußere Einflüsse wie schlechte Sicht- oder Straßenverhältnisse. Das Führen eines Fahrzeuges in der Nacht unterscheidet sich komplett von dem am Tag. \n… und so gilt es auch beim Fahren unter Sonderrechten\, hinter dem Steuer stets einen kühlen Kopf zu bewahren. Auch wenn es mit unseren LKW mitunter mal eng in der Rettungsgasse wird\, auch wenn wir unübersichtliche und verkehrsreiche Kreuzungen queeren und auch wenn es die Einsatzlage notwendig macht\, unter Blaulicht und Martinshorn die rote Ampel vorsichtig zu überfahren. \nDem Maschinisten kommt dabei die verantwortungsvolle Aufgabe zuteil\, alle – Mannschaft wie Ausrüstung – schnell und sicher zur Einsatzstelle zu bringen. \nFahrzeugeFahrzeugkunde\nEinsatz / Bedienung \nAggregateWas haben wir an Bord?\nWie setze ich es ein? \nWerkzeugeWas haben wir an Bord?\nWie setze ich es ein? \nUm zielgerichtet vor Ort helfen zu können\, ist auch das Wissen rund um das Fahrzeug selbst von entscheidender Bedeutung. Wo ist welches Einsatzmittel / Werkzeug verlastet? Wie funktionieren der Stromerzeuger oder die Pumpe? Dies sind Kenntnisse von denen unter Umständen der Einsatzerfolg abhängt. \nDer Einsatz und das Bedienen unserer Drehleiter stellt dabei eine Klasse für sich dar. Kein anderes Fahrzeug / Rettungsmittel ist so komplex und anspruchsvoll in der Bedienung. Das beginnt bei der Aufstellung und endet bei Zusatzanbauteilen\, wie z. B. dem Wasserwerfer\, den Scheinwerfern oder der Krankentrage.
URL:https://www.feuerwehr-raisdorf.de/termine/drehleiter-maschinisten-ausbildung-01-2026/
LOCATION:Feuerwehr Raisdorf\, Bahnhofstraße 11-15\, Schwentinental\, 24223
ATTACH;FMTTYPE=image/avif:https://www.feuerwehr-raisdorf.de/wp-content/uploads/2026/02/Drehleiter-Maschinisten-Ausbildung-01.2026.avif
END:VEVENT
END:VCALENDAR