BEGIN:VCALENDAR
VERSION:2.0
PRODID:-//Feuerwehr Raisdorf - ECPv6.15.20//NONSGML v1.0//EN
CALSCALE:GREGORIAN
METHOD:PUBLISH
X-WR-CALNAME:Feuerwehr Raisdorf
X-ORIGINAL-URL:https://www.feuerwehr-raisdorf.de
X-WR-CALDESC:Veranstaltungen für Feuerwehr Raisdorf
REFRESH-INTERVAL;VALUE=DURATION:PT1H
X-Robots-Tag:noindex
X-PUBLISHED-TTL:PT1H
BEGIN:VTIMEZONE
TZID:Europe/Berlin
BEGIN:DAYLIGHT
TZOFFSETFROM:+0100
TZOFFSETTO:+0200
TZNAME:CEST
DTSTART:20230326T010000
END:DAYLIGHT
BEGIN:STANDARD
TZOFFSETFROM:+0200
TZOFFSETTO:+0100
TZNAME:CET
DTSTART:20231029T010000
END:STANDARD
BEGIN:DAYLIGHT
TZOFFSETFROM:+0100
TZOFFSETTO:+0200
TZNAME:CEST
DTSTART:20240331T010000
END:DAYLIGHT
BEGIN:STANDARD
TZOFFSETFROM:+0200
TZOFFSETTO:+0100
TZNAME:CET
DTSTART:20241027T010000
END:STANDARD
BEGIN:DAYLIGHT
TZOFFSETFROM:+0100
TZOFFSETTO:+0200
TZNAME:CEST
DTSTART:20250330T010000
END:DAYLIGHT
BEGIN:STANDARD
TZOFFSETFROM:+0200
TZOFFSETTO:+0100
TZNAME:CET
DTSTART:20251026T010000
END:STANDARD
BEGIN:DAYLIGHT
TZOFFSETFROM:+0100
TZOFFSETTO:+0200
TZNAME:CEST
DTSTART:20260329T010000
END:DAYLIGHT
BEGIN:STANDARD
TZOFFSETFROM:+0200
TZOFFSETTO:+0100
TZNAME:CET
DTSTART:20261025T010000
END:STANDARD
END:VTIMEZONE
BEGIN:VEVENT
DTSTART;TZID=Europe/Berlin:20250929T190000
DTEND;TZID=Europe/Berlin:20250929T210000
DTSTAMP:20260425T162326
CREATED:20250129T205949Z
LAST-MODIFIED:20250129T205949Z
UID:10000288-1759172400-1759179600@www.feuerwehr-raisdorf.de
SUMMARY:Sonderdienst Technische Hilfe
DESCRIPTION:INHALT\nZur technischen Hilfeleistung (THL) bei der Feuerwehr gehören verschiedene Maßnahmen\, die darauf abzielen\, Gefahren für Menschen\, Tiere\, Umwelt und Sachwerte abzuwenden. Um zu verdeutlichen\, wie komplex unsere Aufgaben geworden sind\, geben wir hier beispielhaft eine Übersicht für technische Hilfeleistungen: \n\nVerkehrsunfälle: Rettung von Personen aus verunfallten Fahrzeugen\, Absicherung der Unfallstelle sowie Beseitigung von Trümmern bzw. auslaufenden Betriebsstoffen.\nUnwetterlagen: Beseitigung von Sturmschäden\, wie umgestürzte Bäume oder abgedeckte Dächer.\nWasser: Pumpen von Wasser aus überfluteten Kellern und Gebäuden.\nGefahrguteinsätze: Abdichten und Aufnehmen von auslaufenden gefährlichen Stoffen\, Sicherung der Einsatzstelle.\nTierrettung: Rettung von Tieren aus Notlagen\, wie z. B. aus Schächten\, Gräben\, Gewässern oder von Bäumen.\nTüröffnungen: Öffnen von Türen\, wenn Personen in Not sind und nicht selbst öffnen können. Dies gilt auch für Fahrstühle.\nStrahlenschutz: Maßnahmen zum Schutz vor radioaktiven Stoffen\n\nAusgehend von unseren Einsätzen liegen unsere Schwerpunkte der Technischen Hilfe bei Verkehrsunfällen\, Wasser- & Unwetterlagen sowie den Türöffnungen. \nTheorieGrundlagen &\nNeuigkeiten \nPraxisAnwendung anhand\ndiverser Szenarien \nAbschlussWas lief gut & was\ngibt es zu verbessern? \n… es gibt also vieles\, was immer wieder geübt werden muss. Gleichzeitig fließen dabei auch neue Erkenntnisse in unsere Arbeit ein. Was sich in der Vergangenheit bewährt hat\, kann durch die Weiterentwicklung und Forschung heute in einem ganz anderen Licht stehen. Dies gilt sowohl für die Einsatztaktik als auch für neue Werkzeuge. \nAuch der (technischen) Entwicklung rund um die Feuerwehr muss Rechnung getragen werden: Soll z. B. eine Person aus einem verunfallten PKW gerettet / befreit werden\, so gilt beim Arbeiten an einem PKW mit einem Verbrennungsmotor eine ganz andere Herangehensweise als es bei einem e-Auto der Fall ist. \nWir haben das Glück\, auf dem Areal der Feuerwehrtechnischen Zentrale in Preetz viele Szenarien rund um die Technische Hilfe trainieren zu können.
URL:https://www.feuerwehr-raisdorf.de/termine/sonderdienst-technische-hilfe-2/
LOCATION:FTZ Preetz\, Dänenkamp 3\, Preetz\, 24211
ATTACH;FMTTYPE=image/avif:https://www.feuerwehr-raisdorf.de/wp-content/uploads/2025/01/Sonderdienst-Technische-Hilfe-2025.avif
END:VEVENT
BEGIN:VEVENT
DTSTART;TZID=Europe/Berlin:20250910T190000
DTEND;TZID=Europe/Berlin:20250910T190000
DTSTAMP:20260425T162326
CREATED:20250126T140822Z
LAST-MODIFIED:20250126T140822Z
UID:10000264-1757530800-1757530800@www.feuerwehr-raisdorf.de
SUMMARY:Brandgewöhnungscontainer
DESCRIPTION:INHALT\nFeuer ist nicht gleich Feuer. Dies gilt insbesondere für Wohnungsbrände. Einerseits staut sich die Wärme\, und es wird sehr schnell sehr heiß\, andererseits behindert der – durch die Verbrennung entstehende – Rauch die Sicht bzw. schränkt diese sogar vollkommen ein. Zusätzlich ist ein schneller Rückzug aus den Räumlichkeiten nicht immer möglich. \nGute Gründe also\, die Brandbekämpfung in geschlossenen Räumen intensiv zu trainieren. Hierzu steht uns der mit Holz betriebene Brandgewöhnungscontainer in der Feuerwehrtechnischen Zentrale in Preetz zur Verfügung. \nTemperaturenbis zu\n700 Grad Celsius \nFeuerBrandentwicklung\nRauchentwicklung \nTechnikenLöschtechniken\nTaktiken \nNach dem theoretischen Teil\, rüsten sich die Atemschutzgeräteträger mit ihrer persönlichen Schutzausrüstung aus.\nHierzu gehört natürlich auch die Kontrolle des Flaschendrucks sowie das Prüfen der Funktion der Warneinrichtungen. \nIm ersten Schritt wird mit der Wärmegewöhnung begonnen. Bereits jetzt kann das entstehende Feuer beim Näherkommen an den Brandherd schon ziemlich beißen. Im weiteren Verlauf schauen wir uns an wie sich das Feuer schließlich entwickelt. \nAuch ist es immer wieder eindrucksvoll\, wie schnell sich der Rauch bildet\, wie er relativ zügig von der Decke bis zum Boden herabsinkt\, um uns schließlich die komplette Sicht zu nehmen. \nFinal trainieren wir unsere Löschtechniken. In Innenräumen ist der gezielte Einsatz von Wasser immens wichtig: … denn das verdampfende Löschwasser nimmt die Wärme auf\, und diese Wärme dringt durch unsere Einsatzschutzkleidung. \nAm Übungsende heißt es dann: Feuer aus\, viel Wasser trinken und ab unter die Dusche.
URL:https://www.feuerwehr-raisdorf.de/termine/brandgewoehnungscontainer-3/
LOCATION:FTZ Preetz\, Dänenkamp 3\, Preetz\, 24211
ATTACH;FMTTYPE=image/avif:https://www.feuerwehr-raisdorf.de/wp-content/uploads/2023/12/Brandgewoehnungscontainer.avif
END:VEVENT
BEGIN:VEVENT
DTSTART;TZID=Europe/Berlin:20250224T190000
DTEND;TZID=Europe/Berlin:20250224T210000
DTSTAMP:20260425T162326
CREATED:20250126T132224Z
LAST-MODIFIED:20250126T132224Z
UID:10000260-1740423600-1740430800@www.feuerwehr-raisdorf.de
SUMMARY:Atemschutzstrecke Preetz
DESCRIPTION:INHALT\nEinsätze unter Atemschutz können sehr belastend sein. Das gilt sowohl für die Psyche als auch für die körperlichen Anforderungen. Aus diesem Grund müssen unsere Atemschutzgeräteträgerinnen und – träger jährlich in die Atemschutzstrecke in der Feuerwehrtechnischen Zentrale in Preetz ihr Können bzw. ihre körperliche Fitness unter Beweis stellen. \nVorbereitung ist hier alles: Schnell gerät man bei diesem Dienst in Schweiß. Daher ist hier äußerst wichtig\, schon im Vorwege für eine ausreichende Wasserzufuhr zu sorgen. Um der Dehydration vorzubeugen\, sollte mindestens 1 Liter zusätzlich getrunken werden. \nIm ersten Abschnitt dieses Dienstes\, rüsten sich alle mit ihrer persönlichen Schutzausrüstung aus. Bis dahin ist eigentlich alles wie immer bzw. wie wir es auch im Einsatz handhaben. Einziger Unterschied: Für die „Fern“ – Überwachung der Herzaktivität ist hier auch das Tragen eines Pulsbandes Pflicht. \nIm Anschluss erfolgt eine Überprüfung des eigenen Atemschutzgerätes. Sind alle Checks erfolgt\, wird das Gerät angelegt und an die Atemschutzmaske angeschlossen. \nVorbereitungmindestens 1 Liter Wasser trinken\nGeräteprüfung \nSportverschiedene Stationen\nunter Atemschutz \nKriechstreckevernebelter Parcours\nmehrere Ebenen mit Hindernissen \nJetzt sind wir in Sachen der körperlichen Fitness gefordert und es heißt an den folgenden Stationen Leistung zu zeigen: \n\nArmergometer\nEndlosleiter\nFahrrad\nLaufband\n\nNeben dem sportlichen Aspekt\, macht sich das Gewicht unserer Ausrüstung hier besonders deutlich. \nNach einem kurzen Cool Down\, geht es in den nächsten Abschnitt. Die als „Tigerkäfig“ titulierte Kriechstrecke\, besteht aus mehreren Ebenen. In einem fast bis auf Nullsicht vernebelten Raum\, kommt es jetzt besonders auf Teamarbeit an. Oft können die zahlreichen Hindernisse nur gemeinsam als und im Trupp bewältigt werden. \nHierzu gehören z. B. die folgenden Hindernisse & Verengungen \n\nDurchstiege\nMannloch\nTeilungen: diagonal\, unten / oben\, rechts / links\nSchrägen\nSchiebetüren\n\nDie Anordnung dieser Elemente wechselt jährlich. Lediglich das Kriechrohr ist als Konstante fest gesetzt. In diesem\, langem\, wie sehr engem\, Rohr schafft man es von der einen zur anderen Seite nur im Team. Hier soll der Umgang mit (einer möglichen auftretenden) Klaustrophobie trainiert werden. \nSchweißgebadet haben wir die Strecke dann hoffentlich geschafft und die anschließende Dusche danach fühlt sich selten so gut an.
URL:https://www.feuerwehr-raisdorf.de/termine/atemschutzstrecke-preetz-3/
LOCATION:FTZ Preetz\, Dänenkamp 3\, Preetz\, 24211
ATTACH;FMTTYPE=image/avif:https://www.feuerwehr-raisdorf.de/wp-content/uploads/2023/12/Atemschutzstrecke.avif
END:VEVENT
BEGIN:VEVENT
DTSTART;TZID=Europe/Berlin:20250210T190000
DTEND;TZID=Europe/Berlin:20250210T210000
DTSTAMP:20260425T162326
CREATED:20250126T132140Z
LAST-MODIFIED:20250126T132140Z
UID:10000259-1739214000-1739221200@www.feuerwehr-raisdorf.de
SUMMARY:Atemschutzstrecke Preetz
DESCRIPTION:INHALT\nEinsätze unter Atemschutz können sehr belastend sein. Das gilt sowohl für die Psyche als auch für die körperlichen Anforderungen. Aus diesem Grund müssen unsere Atemschutzgeräteträgerinnen und – träger jährlich in die Atemschutzstrecke in der Feuerwehrtechnischen Zentrale in Preetz ihr Können bzw. ihre körperliche Fitness unter Beweis stellen. \nVorbereitung ist hier alles: Schnell gerät man bei diesem Dienst in Schweiß. Daher ist hier äußerst wichtig\, schon im Vorwege für eine ausreichende Wasserzufuhr zu sorgen. Um der Dehydration vorzubeugen\, sollte mindestens 1 Liter zusätzlich getrunken werden. \nIm ersten Abschnitt dieses Dienstes\, rüsten sich alle mit ihrer persönlichen Schutzausrüstung aus. Bis dahin ist eigentlich alles wie immer bzw. wie wir es auch im Einsatz handhaben. Einziger Unterschied: Für die „Fern“ – Überwachung der Herzaktivität ist hier auch das Tragen eines Pulsbandes Pflicht. \nIm Anschluss erfolgt eine Überprüfung des eigenen Atemschutzgerätes. Sind alle Checks erfolgt\, wird das Gerät angelegt und an die Atemschutzmaske angeschlossen. \nVorbereitungmindestens 1 Liter Wasser trinken\nGeräteprüfung \nSportverschiedene Stationen\nunter Atemschutz \nKriechstreckevernebelter Parcours\nmehrere Ebenen mit Hindernissen \nJetzt sind wir in Sachen der körperlichen Fitness gefordert und es heißt an den folgenden Stationen Leistung zu zeigen: \n\nArmergometer\nEndlosleiter\nFahrrad\nLaufband\n\nNeben dem sportlichen Aspekt\, macht sich das Gewicht unserer Ausrüstung hier besonders deutlich. \nNach einem kurzen Cool Down\, geht es in den nächsten Abschnitt. Die als „Tigerkäfig“ titulierte Kriechstrecke\, besteht aus mehreren Ebenen. In einem fast bis auf Nullsicht vernebelten Raum\, kommt es jetzt besonders auf Teamarbeit an. Oft können die zahlreichen Hindernisse nur gemeinsam als und im Trupp bewältigt werden. \nHierzu gehören z. B. die folgenden Hindernisse & Verengungen \n\nDurchstiege\nMannloch\nTeilungen: diagonal\, unten / oben\, rechts / links\nSchrägen\nSchiebetüren\n\nDie Anordnung dieser Elemente wechselt jährlich. Lediglich das Kriechrohr ist als Konstante fest gesetzt. In diesem\, langem\, wie sehr engem\, Rohr schafft man es von der einen zur anderen Seite nur im Team. Hier soll der Umgang mit (einer möglichen auftretenden) Klaustrophobie trainiert werden. \nSchweißgebadet haben wir die Strecke dann hoffentlich geschafft und die anschließende Dusche danach fühlt sich selten so gut an.
URL:https://www.feuerwehr-raisdorf.de/termine/atemschutzstrecke-preetz-2/
LOCATION:FTZ Preetz\, Dänenkamp 3\, Preetz\, 24211
ATTACH;FMTTYPE=image/avif:https://www.feuerwehr-raisdorf.de/wp-content/uploads/2023/12/Atemschutzstrecke.avif
END:VEVENT
BEGIN:VEVENT
DTSTART;TZID=Europe/Berlin:20240930T190000
DTEND;TZID=Europe/Berlin:20240930T210000
DTSTAMP:20260425T162326
CREATED:20231225T183831Z
LAST-MODIFIED:20240831T134044Z
UID:10000078-1727722800-1727730000@www.feuerwehr-raisdorf.de
SUMMARY:Sonderdienst Technische Hilfe
DESCRIPTION:INHALT\nZur technischen Hilfeleistung (THL) bei der Feuerwehr gehören verschiedene Maßnahmen\, die darauf abzielen\, Gefahren für Menschen\, Tiere\, Umwelt und Sachwerte abzuwenden. Um zu verdeutlichen\, wie komplex unsere Aufgaben geworden sind\, geben wir hier beispielhaft eine Übersicht für technische Hilfeleistungen: \n\nVerkehrsunfälle: Rettung von Personen aus verunfallten Fahrzeugen\, Absicherung der Unfallstelle sowie Beseitigung von Trümmern bzw. auslaufenden Betriebsstoffen.\nUnwetterlagen: Beseitigung von Sturmschäden\, wie umgestürzte Bäume oder abgedeckte Dächer.\nWasser: Pumpen von Wasser aus überfluteten Kellern und Gebäuden.\nGefahrguteinsätze: Abdichten und Aufnehmen von auslaufenden gefährlichen Stoffen\, Sicherung der Einsatzstelle.\nTierrettung: Rettung von Tieren aus Notlagen\, wie z. B. aus Schächten\, Gräben\, Gewässern oder von Bäumen.\nTüröffnungen: Öffnen von Türen\, wenn Personen in Not sind und nicht selbst öffnen können. Dies gilt auch für Fahrstühle.\nStrahlenschutz: Maßnahmen zum Schutz vor radioaktiven Stoffen\n\nAusgehend von unseren Einsätzen liegen unsere Schwerpunkte der Technischen Hilfe bei Verkehrsunfällen\, Wasser- & Unwetterlagen sowie den Türöffnungen. \nTheorieGrundlagen &\nNeuigkeiten \nPraxisAnwendung anhand\ndiverser Szenarien \nAbschlussWas lief gut & was\ngibt es zu verbessern? \n… es gibt also vieles\, was immer wieder geübt werden muss. Gleichzeitig fließen dabei auch neue Erkenntnisse in unsere Arbeit ein. Was sich in der Vergangenheit bewährt hat\, kann durch die Weiterentwicklung und Forschung heute in einem ganz anderen Licht stehen. Dies gilt sowohl für die Einsatztaktik als auch für neue Werkzeuge. \nAuch der (technischen) Entwicklung rund um die Feuerwehr muss Rechnung getragen werden: Soll z. B. eine Person aus einem verunfallten PKW gerettet / befreit werden\, so gilt beim Arbeiten an einem PKW mit einem Verbrennungsmotor eine ganz andere Herangehensweise als es bei einem e-Auto der Fall ist. \nWir haben das Glück\, auf dem Areal der Feuerwehrtechnischen Zentrale in Preetz viele Szenarien rund um die Technische Hilfe trainieren zu können.
URL:https://www.feuerwehr-raisdorf.de/termine/sonderdienst-technische-hilfe/
LOCATION:FTZ Preetz\, Dänenkamp 3\, Preetz\, 24211
ATTACH;FMTTYPE=image/avif:https://www.feuerwehr-raisdorf.de/wp-content/uploads/2023/12/Sonderdienst-Technische-Hilfe.avif
END:VEVENT
BEGIN:VEVENT
DTSTART;TZID=Europe/Berlin:20240513T190000
DTEND;TZID=Europe/Berlin:20240513T190000
DTSTAMP:20260425T162326
CREATED:20231223T164001Z
LAST-MODIFIED:20240101T131947Z
UID:10000057-1715626800-1715626800@www.feuerwehr-raisdorf.de
SUMMARY:Brandgewöhnungscontainer
DESCRIPTION:INHALT\nFeuer ist nicht gleich Feuer. Dies gilt insbesondere für Wohnungsbrände. Einerseits staut sich die Wärme\, und es wird sehr schnell sehr heiß\, andererseits behindert der – durch die Verbrennung entstehende – Rauch die Sicht bzw. schränkt diese sogar vollkommen ein. Zusätzlich ist ein schneller Rückzug aus den Räumlichkeiten nicht immer möglich. \nGute Gründe also\, die Brandbekämpfung in geschlossenen Räumen intensiv zu trainieren. Hierzu steht uns der mit Holz betriebene Brandgewöhnungscontainer in der Feuerwehrtechnischen Zentrale in Preetz zur Verfügung. \nTemperaturenbis zu\n700 Grad Celsius \nFeuerBrandentwicklung\nRauchentwicklung \nTechnikenLöschtechniken\nTaktiken \nNach dem theoretischen Teil\, rüsten sich die Atemschutzgeräteträger mit ihrer persönlichen Schutzausrüstung aus.\nHierzu gehört natürlich auch die Kontrolle des Flaschendrucks sowie das Prüfen der Funktion der Warneinrichtungen. \nIm ersten Schritt wird mit der Wärmegewöhnung begonnen. Bereits jetzt kann das entstehende Feuer beim Näherkommen an den Brandherd schon ziemlich beißen. Im weiteren Verlauf schauen wir uns an wie sich das Feuer schließlich entwickelt. \nAuch ist es immer wieder eindrucksvoll\, wie schnell sich der Rauch bildet\, wie er relativ zügig von der Decke bis zum Boden herabsinkt\, um uns schließlich die komplette Sicht zu nehmen. \nFinal trainieren wir unsere Löschtechniken. In Innenräumen ist der gezielte Einsatz von Wasser immens wichtig: … denn das verdampfende Löschwasser nimmt die Wärme auf\, und diese Wärme dringt durch unsere Einsatzschutzkleidung. \nAm Übungsende heißt es dann: Feuer aus\, viel Wasser trinken und ab unter die Dusche.
URL:https://www.feuerwehr-raisdorf.de/termine/brandgewoehnungscontainer/
LOCATION:FTZ Preetz\, Dänenkamp 3\, Preetz\, 24211
ATTACH;FMTTYPE=image/avif:https://www.feuerwehr-raisdorf.de/wp-content/uploads/2023/12/Brandgewoehnungscontainer.avif
END:VEVENT
BEGIN:VEVENT
DTSTART;TZID=Europe/Berlin:20240212T190000
DTEND;TZID=Europe/Berlin:20240212T210000
DTSTAMP:20260425T162326
CREATED:20231216T155555Z
LAST-MODIFIED:20240108T172228Z
UID:10000046-1707764400-1707771600@www.feuerwehr-raisdorf.de
SUMMARY:Atemschutzstrecke Preetz
DESCRIPTION:INHALT\nEinsätze unter Atemschutz können sehr belastend sein. Das gilt sowohl für die Psyche als auch für die körperlichen Anforderungen. Aus diesem Grund müssen unsere Atemschutzgeräteträgerinnen und – träger jährlich in die Atemschutzstrecke in der Feuerwehrtechnischen Zentrale in Preetz ihr Können bzw. ihre körperliche Fitness unter Beweis stellen. \nVorbereitung ist hier alles: Schnell gerät man bei diesem Dienst in Schweiß. Daher ist hier äußerst wichtig\, schon im Vorwege für eine ausreichende Wasserzufuhr zu sorgen. Um der Dehydration vorzubeugen\, sollte mindestens 1 Liter zusätzlich getrunken werden. \nIm ersten Abschnitt dieses Dienstes\, rüsten sich alle mit ihrer persönlichen Schutzausrüstung aus. Bis dahin ist eigentlich alles wie immer bzw. wie wir es auch im Einsatz handhaben. Einziger Unterschied: Für die „Fern“ – Überwachung der Herzaktivität ist hier auch das Tragen eines Pulsbandes Pflicht. \nIm Anschluss erfolgt eine Überprüfung des eigenen Atemschutzgerätes. Sind alle Checks erfolgt\, wird das Gerät angelegt und an die Atemschutzmaske angeschlossen. \nVorbereitungmindestens 1 Liter Wasser trinken\nGeräteprüfung \nSportverschiedene Stationen\nunter Atemschutz \nKriechstreckevernebelter Parcours\nmehrere Ebenen mit Hindernissen \nJetzt sind wir in Sachen der körperlichen Fitness gefordert und es heißt an den folgenden Stationen Leistung zu zeigen: \n\nArmergometer\nEndlosleiter\nFahrrad\nLaufband\n\nNeben dem sportlichen Aspekt\, macht sich das Gewicht unserer Ausrüstung hier besonders deutlich. \nNach einem kurzen Cool Down\, geht es in den nächsten Abschnitt. Die als „Tigerkäfig“ titulierte Kriechstrecke\, besteht aus mehreren Ebenen. In einem fast bis auf Nullsicht vernebelten Raum\, kommt es jetzt besonders auf Teamarbeit an. Oft können die zahlreichen Hindernisse nur gemeinsam als und im Trupp bewältigt werden. \nHierzu gehören z. B. die folgenden Hindernisse & Verengungen \n\nDurchstiege\nMannloch\nTeilungen: diagonal\, unten / oben\, rechts / links\nSchrägen\nSchiebetüren\n\nDie Anordnung dieser Elemente wechselt jährlich. Lediglich das Kriechrohr ist als Konstante fest gesetzt. In diesem\, langem\, wie sehr engem\, Rohr schafft man es von der einen zur anderen Seite nur im Team. Hier soll der Umgang mit (einer möglichen auftretenden) Klaustrophobie trainiert werden. \nSchweißgebadet haben wir die Strecke dann hoffentlich geschafft und die anschließende Dusche danach fühlt sich selten so gut an.
URL:https://www.feuerwehr-raisdorf.de/termine/atemschutzstrecke-preetz/
LOCATION:FTZ Preetz\, Dänenkamp 3\, Preetz\, 24211
ATTACH;FMTTYPE=image/avif:https://www.feuerwehr-raisdorf.de/wp-content/uploads/2023/12/Atemschutzstrecke.avif
END:VEVENT
END:VCALENDAR